BEGIN:VCALENDAR
VERSION:2.0
PRODID:-//TAO-YIN - ECPv5.16.4//NONSGML v1.0//EN
CALSCALE:GREGORIAN
METHOD:PUBLISH
X-WR-CALNAME:TAO-YIN
X-ORIGINAL-URL:https://tao-yin.fr
X-WR-CALDESC:évènements pour TAO-YIN
BEGIN:VTIMEZONE
TZID:Europe/Paris
BEGIN:DAYLIGHT
TZOFFSETFROM:+0100
TZOFFSETTO:+0200
TZNAME:CEST
DTSTART:20260329T010000
END:DAYLIGHT
BEGIN:STANDARD
TZOFFSETFROM:+0200
TZOFFSETTO:+0100
TZNAME:CET
DTSTART:20261025T010000
END:STANDARD
END:VTIMEZONE
BEGIN:VEVENT
DTSTART;VALUE=DATE:20260510
DTEND;VALUE=DATE:20260511
DTSTAMP:20260425T021558
CREATED:20250924T193601Z
LAST-MODIFIED:20251120T180052Z
UID:21327-1778371200-1778457599@tao-yin.fr
SUMMARY:Cycle 2025-2026 LE HERISSON DE JADE / pratiques printanières
DESCRIPTION:«Marcher sur la queue du tigre »\nCycle d’étude et d’application 2025-2026 de l’association Le Hérisson De Jade\nhttps://tao-yin.fr/le-herisson-de-jade/lassociation \nAvec Xavier Dumont\, assistant de Georges Charles\nDirecteur technique IDAMCT association fondée en 1978\n10 mai 2026 : pratiques printanières\nDaoyin qigong\ntaijiquan\nxing yiquan\n  \nCoût d’un stage 80 € (adhérent ACT 60 €) \nFiche PDF : cycle de stages 2025-2026 Marcher sur la queue du tigre \nRenseignements et inscriptions : 01 69 57 03 72\nleherissondejade@orange.fr
URL:https://tao-yin.fr/stage/cycle-2025-2026-le-herisson-de-jade-pratiques-printanieres/
LOCATION:ATHIS MONS  Gymnase Georges Argant\, Avenue Henri Dunant\, ATHIS MONS \, 91200\, France
CATEGORIES:Les membres enseignants
ATTACH;FMTTYPE=image/png:https://tao-yin.fr/wp-content/uploads/2025/09/bando-c-herisson-2025.png
ORGANIZER;CN="Xavier%20%26%20Christelle":MAILTO:Leherissondejade@orange.fr
END:VEVENT
BEGIN:VEVENT
DTSTART;TZID=Europe/Paris:20260516T093000
DTEND;TZID=Europe/Paris:20260517T180000
DTSTAMP:20260425T021558
CREATED:20260306T110457Z
LAST-MODIFIED:20260308T164723Z
UID:21753-1778923800-1779040800@tao-yin.fr
SUMMARY:Rencontres ADQM 2026 16 et 17 mai Lussault sur Loire
DESCRIPTION:LES RENCONTRES ADQM SONT ORGANISÉES TOUS LES ANS PAR L’ASSOCIATION\nAU DELÀ DES QUATRE MERS AVEC L’APPROBATION ET LE SOUTIENT DE\nLA CONVENTION DES ARTS CLASSIQUES DU TAO ET DE L’ÉCOLE SAN YIQUAN\nC’est\, cette année\, la Quatrième Édition !  \nPROGRAMME\nSamedi 16 mai :\n★ 9h30-10h : Accueil des participants au Pôle XXI\, Lussault sur Loire.\n★ 10h-12h : Aux frontières entre bien-être et soin avec Paola Locatelli (Présidente de Tao Yin Italia).\nPrésentation de pratiques diverses transmises par des enseignants de Qi Gong\nmédical.\n★ 12h-13h45 : Repas sur site au Pôle XXI.\n★ 13h45-15h45 : Qi Gong et self-défense/combat avec Christophe You (As Viet Vo Dao\nSaint Herblain). Pratique du Qi Gong des cinq étoiles et des cinq paumes en amenant\nune notion de self défense et percussion (combat) via un travail avec partenaire.\n★ 15h45-16h00 : Pause.\n★ 16h00-18h00 : Ateliers libres.\n★ 19h30 : Restaurant Le Siècle d’Or sur réservation (à 14 min en voiture du Pôle XXI\, à 5\nmin en voiture de l’hébergement Ethic Etape)\, et quartier libre pour les autres ! \n \nFORMULES\nFormule n°1 : 97€\nArrivée le vendredi 15 mai\nComprend :\n★ Nuitée vendredi soir\n★ Petit déjeuner samedi matin\n★ Déjeuner samedi midi\n★ Nuitée samedi soir\n★ Petit déjeuner dimanche matin\n★ Déjeuner dimanche midi\nTotal frais de bouches et d’hébergement : 87€\nFrais d’organisation du week-end : 10€\nFormule n°2 : 70€\nArrivée le samedi 16 mai avant 10h\nComprend :\n★ Déjeuner samedi midi\n★ Nuitée samedi soir\n★ Petit déjeuner dimanche matin\n★ Déjeuner dimanche midi\nTotal frais de bouches et d’hébergement : 60€\nFrais d’organisation du week-end : 10€\nFormule n°3 : 40€\nArrivée le samedi 16 mai avant 10h\nComprend :\n★ Déjeuner samedi midi\n★ Déjeuner dimanche midi\nTotal frais de bouches : 30€\nFrais d’organisation du week-end : 10€\n1 Les rencontres ADQM – 4ème édition\nFORMULES\nFormule n°4 : 10€\nComprend :\n★ Frais d’organisation du week-end : 10€\nCONTACT\naudeladesquatremers@gmail.com\nMaxime Le Guennec : 0648287366 / Sébastien Lecoq : 0617132656\nINDICATION D’ACCÈS\nLieu de pratique et de restauration du midi\nPôle XXI\, Lussault sur Loire (37400)\, tiers lieu situé devant l’aquarium de\nTouraine.\nLieu d’hébergement et petit déjeuner\nEthic étapes\, 1 Rue Commire (L’île d’Or) – 37400 Amboise\nRestaurant du Samedi soir (sur réservation)\nLe Siècle d’Or\, à 14 min en voiture du Pôle XXI\, à 5 min en voiture de\nl’hébergement Ethic Etape\nLa Ramée\, 37530 Pocé-sur-Cisse \nLes Rencontres ADQM ont le soutient et l’approbation de la Convention des Arts Classiques du Tao et de l’École San Yiquan.\nG.C.\nGeorges Charles qui remercie chaleureusement nos amis organisateurs de « Au Delà Des Quatre Mers (Tous les Braves sont frères et Sœurs !) »\nd’avoir choisi\, pour l’illustration de cette Quatrième Édition\, un Tigre qui ne ressemble pas à un avorton. Il se porte bien !
URL:https://tao-yin.fr/stage/rencontres-adqm-2026-15-et-16-mai-lussault-sur-loire/
LOCATION:Pôle XXI Lussault sur Loire\, Pôle XXI Lussault sur Loire\, Lussault sur Loire\, 37400\, France
CATEGORIES:Les membres enseignants
ORGANIZER;CN="Au%20del%C3%A0%20des%20Quatre%20Mers":MAILTO:audeladesquatremers@gmail.com
END:VEVENT
BEGIN:VEVENT
DTSTART;VALUE=DATE:20260620
DTEND;VALUE=DATE:20260622
DTSTAMP:20260425T021558
CREATED:20260317T110726Z
LAST-MODIFIED:20260319T142703Z
UID:21774-1781913600-1782086399@tao-yin.fr
SUMMARY:30 ans de l'Ecole Lan Long Yu Lin à Vierzon
DESCRIPTION:Anniversaire des 30 ans de l’Ecole Lan Long Yu Lin à Vierzon\nVous êtes chaleureusement invités à participer à l’anniversaire des 30 ans de l’École Lan Long Yu Lin (Dragon Azuré et Licorne de Jade) à Vierzon (18). \nLe Chef de File de l’École est Jean Marie Ragon.\nJean Marie Ragon a obtenu l’accord de Georges Charles (Cha Lishi) de fonder sa propre École d’Arts Chevaleresques selon la tradition chinoise classique. Elle est donc reconnue en Chine. \n \nGeorges Charles s’inscrit dans la lignée prestigieuse des Maîtres du Xingyiquan (Hsing I Chuan) de la branche du Hebei en tant qu’Héritier direct de cinquième génération dont la lignée est la suivante : Li Laoneng (Li Neng Jan)(1807 1888)\, Guo Yunshen (Fo Junsha) (1829 1898 ou 1822 1901selon les sources)\, Wang Xiangzhai (Wang Yuseng) (1885 1963)\, Wang Zemin (Wong Tseming ou Tai Ming Wong) (1909 2002)\, Georges Charles (Cha Lishi) . \nCeci est gravé dans le marbre de la stèle franco-chinoise du Mémorial du Xingyiquan de Shenzhou dans le Hebei. Georges Charles est donc le seul non-Chinois\, si on excepte Sawai Kennichi\, a être reconnu comme successeur en titre d’une École chinoise importante représentant l’un des trois arts internes de l’Art du Poing.  Les deux autres étant le Taijiquan (Tai Chi Chuan) et le Baguazhang (Pa Koua Tchang) Paume des Huit Trigrammes. Xingyiquan signifie littéralement « Poing de l’Intention prenant Forme ». \n  \nMémorial du Xingyi dans le Hebei. \nLa stèle franco-chinoise mentionnant Georges Charles en tant que Maître Héritier est la seconde à partir du bas dans le coin gauche du mémorial. \nDétail de la stèle franco-chinoise du Mémorial du Xingyiquan dans le Hebei. Elle décrit la filiation de Georges Charles et de l’Ecole San Yiquan
URL:https://tao-yin.fr/stage/anniversaire-des-30-ans-de-lecole-lan-long-yu-lin-a-vierzon/
LOCATION:Vierzon – Dojo Jimmy Agard (27 et 28) Dojo de Chaillot (29)\, Vierzon \, Centre \, 18100\, France
CATEGORIES:Les membres enseignants
ATTACH;FMTTYPE=image/jpeg:https://tao-yin.fr/wp-content/uploads/2026/03/30ans-lan-long-yu-lin.jpg
END:VEVENT
BEGIN:VEVENT
DTSTART;VALUE=DATE:20260622
DTEND;VALUE=DATE:20260627
DTSTAMP:20260425T021558
CREATED:20250924T194225Z
LAST-MODIFIED:20251120T180101Z
UID:21332-1782086400-1782518399@tao-yin.fr
SUMMARY:Cycle 2025-2026 LE HERISSON DE JADE / Bretagne
DESCRIPTION:«Marcher sur la queue du tigre »\nCycle d’étude et d’application 2025-2026 de l’association Le Hérisson De Jade\nhttps://tao-yin.fr/le-herisson-de-jade/lassociation \nAvec Xavier Dumont\, assistant de Georges Charles\nDirecteur technique IDAMCT association fondée en 1978\n22 au 26 Juin Stage d’été en Bretagne (Côtes d’Armor)\nPratiques internes de l’école San yiquan\n  \nFiche PDF : cycle de stages 2025-2026 Marcher sur la queue du tigre \nRenseignements et inscriptions : 01 69 57 03 72\nleherissondejade@orange.fr
URL:https://tao-yin.fr/stage/cycle-2025-2026-le-herisson-de-jade-bretagne/
LOCATION:Bretagne (Côtes d’Armor)\, 22000
CATEGORIES:Les membres enseignants
ATTACH;FMTTYPE=image/png:https://tao-yin.fr/wp-content/uploads/2025/09/bando-c-herisson-2025.png
ORGANIZER;CN="Xavier%20%26%20Christelle":MAILTO:Leherissondejade@orange.fr
END:VEVENT
BEGIN:VEVENT
DTSTART;VALUE=DATE:20260622
DTEND;VALUE=DATE:20260627
DTSTAMP:20260425T021558
CREATED:20260319T141512Z
LAST-MODIFIED:20260329T170832Z
UID:21801-1782086400-1782518399@tao-yin.fr
SUMMARY:Le HERISSON DE JADE en Bretagne
DESCRIPTION:STAGE D’ETE DU HERISSON DE JADE\nDAOYIN QI GONG ET ARTS CHEVALERESQUES\nDu 22 au 26 juin 2026 en Bretagne (Côte d’Armor)\nPratique en pleine nature des arts internes chinois\nPratique du lundi au vendredi de 9 heures à 12h30.\n• Renforcement du système immunitaire par le biais du Yijinjing xisuijing\n• Automassages d’entretien de santé\n• Pratique du Xing yiquan et du Taijiquan\n• Découverte des formes de méditation de l’école\n• Daoyinfa du ling bao ming (joyau de la clarté écarlate) \nLe stage est conduit par Xavier DUMONT\, enseignant de l’école SAN YIQUAN\, directeur technique IDAMCT\, assistant en titre de Georges CHARLES maître héritier et chef d’école du poing des trois harmonies. Le programme est conçu pour être accessible à tous\, tout en permettant aux plus avancés de se perfectionner dans les pratiques internes de l’école. \nLes après-midis sont libres : Que cela permette de profiter de l’air marin\, des beaux sites des côtes de Penthièvre et d’Emeraude ! \n \nLe stage se déroule chez Joëlle et Pierre dans un magnifique site privatisé de 6 hectares à deux pas des plages de sable fin !\nHébergement en gîte tout confort 3***\nhttps://www.facebook.com/gites.lavillemarque \n \nACCES\nPar le train : Gare SNCF Lamballe\nPar l’autoroute : A11 /A81 > Rennes > Lamballe> 22550 Hénanbihen > La Ville Marqué d’en Bas \nPour tout renseignement :\nXavier ou Christelle : 01 69 57 03 72\nTéléchargez le PDF et la fiche d’inscription : \nFiche d’incription\n 
URL:https://tao-yin.fr/stage/stage-dete-du-herisson-de-jade-en-bretagne/
LOCATION:Hénanbihen\, 22550 Hénanbihen\, Hénanbihen\, 22550\, France
CATEGORIES:Les membres enseignants
ATTACH;FMTTYPE=image/jpeg:https://tao-yin.fr/wp-content/uploads/2026/03/pMozD5E8h8ZWhs.jpg
ORGANIZER;CN="Xavier%20%26%20Christelle":MAILTO:Leherissondejade@orange.fr
END:VEVENT
BEGIN:VEVENT
DTSTART;TZID=Europe/Paris:20260622T093000
DTEND;TZID=Europe/Paris:20260626T170000
DTSTAMP:20260425T021558
CREATED:20260317T153514Z
LAST-MODIFIED:20260317T153843Z
UID:21783-1782120600-1782493200@tao-yin.fr
SUMMARY:Stage d'été en Bretagne avec Xavier Dumont du 22 au 26 juin à Hénanbihen
DESCRIPTION:Cette année nous vous proposons un Stage d’Eté en Bretagne avec Xavier Dumont.\nCe stage aura lieu du 22 au 26 juin à Hénanbihen (22550) au lieu dit La Ville Marqué d’en Bas dans un gîte tout confort.\nCe stage s’adresse à tous et toutes et concerne\, bien évidemment\, les pratiques de l’École San Yiquan sous leurs divers aspects\, internes\, externes et symboliques.\nIl sera dirigé et animé par Xavier Dumont\, Enseignant et Titre de l’Ecole San Yiquan et assistant principal de Georges Charles.\nPour l’instant veuillez cliquer sur le lien ci dessous pour obtenir plus d’informations. \nStage été 2026
URL:https://tao-yin.fr/stage/stage-dete-en-bretagne-avec-xavier-dumont-du-22-au-26-juin-a-henanbihen/
ORGANIZER;CN="Le%20H%C3%A9risson%20de%20Jade":MAILTO:leherissondejade@orange.fr
END:VEVENT
BEGIN:VEVENT
DTSTART;VALUE=DATE:20260803
DTEND;VALUE=DATE:20260808
DTSTAMP:20260425T021558
CREATED:20240205T172059Z
LAST-MODIFIED:20260323T142033Z
UID:20441-1785715200-1786147199@tao-yin.fr
SUMMARY:STAGE INITIATION EN MARGERIDE
DESCRIPTION:Paulhac en Margeride 2026 : découverte et initiation Qigong du Tao\nPour la 33eme année\, nous organisons un stage d’été à Paulhac en Margeride (48140) Lozère.\nLe stage « initiation » aura lieu du lundi 2 août au vendredi 7 août inclus.\nIl sera dirigé par Georges Charles\, Shengren Daoshi (Maître Héritier en Titre) de l’Ecole San Yiquan (Poing des Trois-Un) assisté par plusieurs Enseignants certifiés et quelques « Anciens ». \nAtelier de pratique en extérieur \nNotre Association IDAMCT a été fondée en 1978\, année où Georges Charles a reçu l’autorisation de son Professeur Chinois\, Wang Zemin (1909 2003) de lui succéder. La filiation officielle reconnue au Mémorial du Xingyiquan de Shenzhou dans le Hebei s’établit donc ainsi : Li Laoneng (Li Neng Jan) ; Guo Yunshen (Fo Junsha) ; Wang Xiangzhai (Nibao) ; Wang Zemin (Wong Tse Ming à Hong Kong) et Georges Charles (Cha Lishi). C’est ce qui est gravé dans la stèle de marbre franco-chinoise érigée au Mémorial du Xingyiquan. \nGeorges Charles est\, en ce moment\, le seul non-Chinois à être reconnu comme « Chef d’Ecole » en tant que Maître Héréditaire (Shengren Daoshi – littéralement « Être réalisé qui maîtrise la Voie ») d’une lignée remontant jusqu’à Yue Fei (1103 1142). Wong Tse Ming (Wang Zemin en mandarin) est reconnu comme ayant été l’un des deux derniers disciples de Yip Man. C »est ce qui est indiqué dans la généalogie historique de son École. \nhttp://www.worldwingchununion.org/14/history\nLe nom de Wang Zemin apparaît bien au dos de la pierre tombale de Wang Xiangzhai au Cimetière des Collines Parfumées\, au NO de Beijing qui est le cimetière le plus officiel de Chine\, l’équivalent de Arlington aux USA ou du Panthéon en France. \nLe Stage :\nIl s’agit de découvrir\, et de pratiquer\, les bases fondamentales de l’Ecole San Yiquan qui est reconnue en Chine (Mémorial du Xingyiquan de Shenzhou dans le Hébei) comme représentant la tradition du Xingyiquan mais\, également\, celle du Lingbaoming (Ling Pao Ming) « Clarté du Joyau Écarlate » qui est l’une des trois principales tendances des « Praticiens du Tao » (Daojiao). Le Xingyiquan est l’un des trois principaux styles de l’art du poing « Interne » (Neijiaquan)\, les deux autres étant le Taijiquan (Tai Chi Chuan) ou « Poing du Faîte Ultime » et le Baguazhang (Pa Kua Tchang) ou « Paume des Huit Trigrammes ». Les deux autres principaux Styles des « Praticiens du Tao » étant le Mao Chan ou « Montagne de Longévité » et le Jin Dan « Pilule d’Or ». \n \nL’École San Yiquan se caractérise par la compréhension et l’utilisation des Cinq Mouvements (dits aussi Cinq Éléments) de l’énergétique chinoise classique utilisés pratiquement dans les techniques médicales et de santé (acupuncture\, massages et auto-massages\, diététique chinoise classique\, herboristerie…). \nIl s’agit de l’Eau\, du Bois\, du Feu\, de la Terre et du Métal qui sont simplement des variations matérialisées du Yin-Yang. On pourrait parler de variations à la fois qualitatives et quantitatives. \nAu cours de ce stage nous étudierons et pratiquerons également les bases fondamentales de l’art du bâton long qui est considérée par les Sages Chinois comme la « Mère de toutes les armes ». C’est en quelque sorte la partie « Chevaleresque » du stage. \nPour le Stage « Perfectionnement » c’est par ici\nG.C. \nPour votre hébérgement contactez le plus tôt possible Monsieur Daniel Martin à l’Auberge du bon accueil à Paulhac (Hôtel\, chambres\, gîte de groupe\, camping à la ferme\, locations…) au 04 66 31 73 46. \n  \nL’inscription se fera sur place auprès de Georges Charles\nA savoir sur PaulhacPaulhac en MargeridePaulhac en Margeride\nA savoir sur le stage d'initiationDétailsDétails\nA savoir sur le stage de perfectionnementDétailsDétails \n 
URL:https://tao-yin.fr/stage/stage-initiation-paulhac-en-margeride-2026/
LOCATION:Paulhac en Margeride\, Gîte de groupe et auberge du Bon Accueil\, Paulhac en Margeride\, 48140\, France
CATEGORIES:Avec Georges Charles,Les membres enseignants
ATTACH;FMTTYPE=image/jpeg:https://tao-yin.fr/wp-content/uploads/2021/11/Drone-Paulhac-2020-aout-mov-image.jpg
ORGANIZER;CN="IDAMCT%20Arts%20Classiques%20du%20Tao":MAILTO:idamct@gmail.com
END:VEVENT
BEGIN:VEVENT
DTSTART;VALUE=DATE:20260810
DTEND;VALUE=DATE:20260815
DTSTAMP:20260425T021558
CREATED:20240205T174118Z
LAST-MODIFIED:20260323T142254Z
UID:20445-1786320000-1786751999@tao-yin.fr
SUMMARY:STAGE PERFECTIONNEMENT
DESCRIPTION:Paulhac en Margeride 2026 : Perfectionnement\nL’Association IDAMCT organise pour la 33eme année un Stage de Perfectionnement (Master Class) à Paulhac en Margeride (Entre Lozère et Haute Loire) dans la sud du Massif Central à la limite du Languedoc.\nCe stage aura lieu du lundi 10 au vendredi 14 inclus. Il est réservé aux Pratiquants et Enseignants San Yiquan et des Arts Classiques du Tao ainsi qu’à celles et ceux qui ont pratiqué lors du stage Initiation. Ou sur acceptation de Georges Charles. \n« Nobody is perfect » aurait déclaré George Charles Gordon\, alias « Chinese Gordon ». \nLes participants du Stage Initiation \nMais on peut quand même espérer s’élever encore quelque peu. C’est Guo Yunshen\, lui-même\, qui le propose. « L’important est de s’élever encore ».  Les anglo-saxons parleraient de « Master-Class » mais n’en demandons pas tant.\nIl s’agit de tenter de parfaire\, si cela était encore possible\, la pratique de San Yiquan et de  » cheminer sur la Voie ». Comme le suggère Zhuangzi\, alias Tchouang Tseu. \n« C’est en empruntant le chemin que la voie se trace. La juste mesure permet la pratique. Pratiquer c’est chercher à atteindre un résultat. Lorsqu’on s’approche du résultat on est proche du Tao. Il faut affirmer ce fait ! » \n\nCe stage sera évidemment dirigé par Georges Charles « Shengren Daoshi San Yiquan »\, donc Maître Héritier de l’École du Poing des Trois Un\, aidé par plusieurs Enseignants et « Anciens ». \nIl comprend les pratiques de trois Ecoles « Externes » (Waijia)\, Wing Chun ; Hung Gar ; Tang Lang et d’une Ecole « Interne » San Yiquan du style Xingyiquan (Hsing I Chuan) (Poing de l’Intention prenant forme) ainsi que la pratique du Daoyin Qigong (Qigong du Tao) du Lingbaoming (Ling Pao Ming)\, l’une des trois branches maîtresses du Qigong taoïste classique les deux autres étant Le Jing Dan (Pilule de Longévité) et le Mao Chan (Montagne de la Longévité). Cette forme de « Qigong » s’est transmise de maître à disciple au sein qu Clan Wang de Yue de Hangzhou dont Wang Zemin était l’un des descendants directs. \nC’est pour cela que nous sommes attachés au terme »classique ». En quelque sorte comme la musique « classique »\, la danse « classique »\, un costume ou une cravate « classique ». Cela\, au moins\, représente quelque chose même et surtout à notre époque. Qu’on le veuille ou non Georges Charles s’inscrit donc dans une lignée qui a pignon sur rue puisqu’il est reconnu comme successeur direct de Wang Zemin\, lui même disciple de Wang Xiangzhai (son nom figure au dos ce sa tombe au Cimetière des Collines parfumées près de Pékin\, le cimetière le plus « officiel » de Chine. Les descendants de Wang Xiangzhai sont myriades (Wan – innombrables !) mais peu d’entre eux figurent au dos de sa tombe. Désolé pour eux. Lui-même disciple de Guo Yunshen alias Fo Junsha « La Paume Destructrice du Bouddha »\, lui-même disciple de Li Laoneng (Li Nengjan) « Le Vieux Fermier Li » dont la maison existe encore près du Mémorial du Xingyiquan près de Beijing (Pékin). La filiation originelle remonte au Général Yue Fei (1103 1142) qui fut le premier à utiliser le terme Yiquan pour son Ecole (Liu He Yiquan). \nPour votre hébérgement contactez le plus tôt possible Monsieur Daniel Martin à l’Auberge du bon accueil à Paulhac (Hôtel\, chambres\, gîte de groupe\, camping à la ferme\, locations…) au 04 66 31 73 46. \nGC \nL’inscription se fera sur place auprès de Georges Charles\n  \n \nA savoir sur PaulhacPaulhac en MargeridePaulhac en Margeride\nA savoir sur le stage d'initiationDétailsDétails\nA savoir sur le stage de perfectionnementDétailsDétails\n 
URL:https://tao-yin.fr/stage/stage-perfectionnement-de-paulhac-en-margeride-2026/
LOCATION:Paulhac en Margeride\, Gîte de groupe et auberge du Bon Accueil\, Paulhac en Margeride\, 48140\, France
CATEGORIES:Avec Georges Charles,Les membres enseignants
ATTACH;FMTTYPE=image/jpeg:https://tao-yin.fr/wp-content/uploads/2024/02/bonnecure.jpg
ORGANIZER;CN="IDAMCT%20Arts%20Classiques%20du%20Tao":MAILTO:idamct@gmail.com
END:VEVENT
END:VCALENDAR