BEGIN:VCALENDAR
VERSION:2.0
PRODID:-//TAO-YIN - ECPv5.16.4//NONSGML v1.0//EN
CALSCALE:GREGORIAN
METHOD:PUBLISH
X-WR-CALNAME:TAO-YIN
X-ORIGINAL-URL:https://tao-yin.fr
X-WR-CALDESC:évènements pour TAO-YIN
BEGIN:VTIMEZONE
TZID:Europe/Paris
BEGIN:DAYLIGHT
TZOFFSETFROM:+0100
TZOFFSETTO:+0200
TZNAME:CEST
DTSTART:20180325T010000
END:DAYLIGHT
BEGIN:STANDARD
TZOFFSETFROM:+0200
TZOFFSETTO:+0100
TZNAME:CET
DTSTART:20181028T010000
END:STANDARD
END:VTIMEZONE
BEGIN:VEVENT
DTSTART;VALUE=DATE:20180513
DTEND;VALUE=DATE:20180514
DTSTAMP:20260419T141023
CREATED:20170923T091557Z
LAST-MODIFIED:20170923T091820Z
UID:15213-1526169600-1526255999@tao-yin.fr
SUMMARY:Stage de Tui shou avec le Hérisson
DESCRIPTION:Stage de Tui shou avec le Hérisson\nBonjour à tous\,\nUn stage ‘hors cycle’ de tui shou est proposé le 13 Mai au gymnase Argant (rue Henri Dunant) à Athis Mons. Il est ouvert et accessible à tous que vous pratiquiez le Daoyin\, le Taijiquan ou le Gong fu wu shu. \n01 69 57 03 72 // leherissondejade@orange.fr // www.tao-yin.fr\ncycle de stage 2017-2018 \nA bientôt pour de nouvelles aventures\nYU WEI \nEnregistrer \nEnregistrer
URL:https://tao-yin.fr/stage/stage-de-tui-shou-herisson-2/
LOCATION:ATHIS MONS  Gymnase Georges Argant\, Avenue Henri Dunant\, ATHIS MONS \, 91200\, France
CATEGORIES:Les membres enseignants
ATTACH;FMTTYPE=image/jpeg:https://tao-yin.fr/wp-content/uploads/2016/09/VIGNETTE-EVENT-herisson2.jpg
ORGANIZER;CN="Xavier%20%26%20Christelle":MAILTO:Leherissondejade@orange.fr
END:VEVENT
END:VCALENDAR