BEGIN:VCALENDAR
VERSION:2.0
PRODID:-//TAO-YIN - ECPv5.16.4//NONSGML v1.0//EN
CALSCALE:GREGORIAN
METHOD:PUBLISH
X-WR-CALNAME:TAO-YIN
X-ORIGINAL-URL:https://tao-yin.fr
X-WR-CALDESC:évènements pour TAO-YIN
BEGIN:VTIMEZONE
TZID:Europe/Paris
BEGIN:DAYLIGHT
TZOFFSETFROM:+0100
TZOFFSETTO:+0200
TZNAME:CEST
DTSTART:20180325T010000
END:DAYLIGHT
BEGIN:STANDARD
TZOFFSETFROM:+0200
TZOFFSETTO:+0100
TZNAME:CET
DTSTART:20181028T010000
END:STANDARD
END:VTIMEZONE
BEGIN:VEVENT
DTSTART;TZID=Europe/Paris:20180527T100000
DTEND;TZID=Europe/Paris:20180527T170000
DTSTAMP:20260419T155155
CREATED:20180107T145416Z
LAST-MODIFIED:20180505T095844Z
UID:15483-1527415200-1527440400@tao-yin.fr
SUMMARY:Qigong et Taijiquan à Vaires sur Marne (Reporté)
DESCRIPTION:En Raison des grèves\, le stage est malheureusement reporté\nLe Qigong et le Taijiquan ont une origine commune dans le Daoyin Qigong (Tao-Yin Chi Kung)\, le « Qigong du Tao »\n Georges Charles fort\, de ses soixante années de pratique et de près de quarante ans d’enseignement notamment dans les pratiques chinoises de santé et d’éveil qu’il qualifie d’Arts Classiques du Tao\, vous emmènera sur ce chemin où ces Arts se rencontrent et s’enrichissent mutuellement au travers\, notamment\, des Cinq Eléments qui en constituent une ossature solide et pérenne. \nOù le mouvement et l’énergie se rencontrent pour forger la santé et la vitalité au delà des querelles d’écoles et de clochers. \nLe De (ou Te)\, la « Vertu » ou\, plus simplement l’efficace demeure une constante de tout ce qui est considéré comme classique en Chine\, de la calligraphie en passant par la musique\, la cuisine (« classique » pas celle des restos asiatiques à buffets tout compris !)\, les arts du poing\, la poésie. La recherche de cette « Vertu »\, de cet efficace permet de mieux appréhender la Voie\, donc Tao\, sous ses divers aspects. 
URL:https://tao-yin.fr/stage/qigong-taijiquan-a-vaires-marne/
LOCATION:Salle des pêcheurs\, 61\, rue des pêcheurs\, Vaires sur Marne\, 77360
CATEGORIES:Avec Georges Charles
ATTACH;FMTTYPE=image/jpeg:https://tao-yin.fr/wp-content/uploads/2017/03/GeorgesCharles3.jpg
ORGANIZER;CN="Sylvana%20Souffron":MAILTO:sylvana.souffron@wanadoo.fr
END:VEVENT
END:VCALENDAR